BEGIN:VCALENDAR
VERSION:2.0
PRODID:-//Katbird Photo - ECPv6.15.20//NONSGML v1.0//EN
CALSCALE:GREGORIAN
METHOD:PUBLISH
X-WR-CALNAME:Katbird Photo
X-ORIGINAL-URL:https://www.katbirdphoto.com
X-WR-CALDESC:Events for Katbird Photo
REFRESH-INTERVAL;VALUE=DURATION:PT1H
X-Robots-Tag:noindex
X-PUBLISHED-TTL:PT1H
BEGIN:VTIMEZONE
TZID:America/Denver
BEGIN:DAYLIGHT
TZOFFSETFROM:-0700
TZOFFSETTO:-0600
TZNAME:MDT
DTSTART:20240310T090000
END:DAYLIGHT
BEGIN:STANDARD
TZOFFSETFROM:-0600
TZOFFSETTO:-0700
TZNAME:MST
DTSTART:20241103T080000
END:STANDARD
BEGIN:DAYLIGHT
TZOFFSETFROM:-0700
TZOFFSETTO:-0600
TZNAME:MDT
DTSTART:20250309T090000
END:DAYLIGHT
BEGIN:STANDARD
TZOFFSETFROM:-0600
TZOFFSETTO:-0700
TZNAME:MST
DTSTART:20251102T080000
END:STANDARD
BEGIN:DAYLIGHT
TZOFFSETFROM:-0700
TZOFFSETTO:-0600
TZNAME:MDT
DTSTART:20260308T090000
END:DAYLIGHT
BEGIN:STANDARD
TZOFFSETFROM:-0600
TZOFFSETTO:-0700
TZNAME:MST
DTSTART:20261101T080000
END:STANDARD
END:VTIMEZONE
BEGIN:VEVENT
DTSTART;TZID=America/Denver:20250913T160000
DTEND;TZID=America/Denver:20250913T200000
DTSTAMP:20260423T105653
CREATED:20250819T150439Z
LAST-MODIFIED:20250819T150439Z
UID:1143-1757779200-1757793600@www.katbirdphoto.com
SUMMARY:Longmont Artwalk
DESCRIPTION:I am back from a long hiatus! \nCome visit my booth at Longmont’s Artwalk 2025.
URL:https://www.katbirdphoto.com/event/longmont-artwalk/
CATEGORIES:Shows and Festivals
END:VEVENT
END:VCALENDAR