BEGIN:VCALENDAR
VERSION:2.0
PRODID:-//Katbird Photo - ECPv6.15.20//NONSGML v1.0//EN
CALSCALE:GREGORIAN
METHOD:PUBLISH
X-WR-CALNAME:Katbird Photo
X-ORIGINAL-URL:https://www.katbirdphoto.com
X-WR-CALDESC:Events for Katbird Photo
REFRESH-INTERVAL;VALUE=DURATION:PT1H
X-Robots-Tag:noindex
X-PUBLISHED-TTL:PT1H
BEGIN:VTIMEZONE
TZID:America/Denver
BEGIN:DAYLIGHT
TZOFFSETFROM:-0700
TZOFFSETTO:-0600
TZNAME:MDT
DTSTART:20240310T090000
END:DAYLIGHT
BEGIN:STANDARD
TZOFFSETFROM:-0600
TZOFFSETTO:-0700
TZNAME:MST
DTSTART:20241103T080000
END:STANDARD
BEGIN:DAYLIGHT
TZOFFSETFROM:-0700
TZOFFSETTO:-0600
TZNAME:MDT
DTSTART:20250309T090000
END:DAYLIGHT
BEGIN:STANDARD
TZOFFSETFROM:-0600
TZOFFSETTO:-0700
TZNAME:MST
DTSTART:20251102T080000
END:STANDARD
BEGIN:DAYLIGHT
TZOFFSETFROM:-0700
TZOFFSETTO:-0600
TZNAME:MDT
DTSTART:20260308T090000
END:DAYLIGHT
BEGIN:STANDARD
TZOFFSETFROM:-0600
TZOFFSETTO:-0700
TZNAME:MST
DTSTART:20261101T080000
END:STANDARD
END:VTIMEZONE
BEGIN:VEVENT
DTSTART;TZID=America/Denver:20251122T180000
DTEND;TZID=America/Denver:20251122T210000
DTSTAMP:20260423T105104
CREATED:20251118T234221Z
LAST-MODIFIED:20251118T234221Z
UID:1151-1763834400-1763845200@www.katbirdphoto.com
SUMMARY:Niwot Enchanted Evening 2025
DESCRIPTION:The holiday season is here!\nI will be at the 2025 Niwot Enchanted Evening event with an array of photo gifts and cards\, from magnets to metal prints.\n6-9 PM\n136 2nd Avenue\, in the Emporium Building\nNiwot\, CO\n  \n15 oz. coffee mugs\nKatbird Photo bottle cap magnets and lapel pins\nKatbird Photo gift cards with envelopes\nKatbird Photo shopping and travel bags\nKatbird greeting cards\, singles and boxed sets\nA variety of matted\, framed\, and metal prints.
URL:https://www.katbirdphoto.com/event/niwot-enchanted-evening-2025/
LOCATION:The Emporium Building\, 136 2nd Avenue\, Niwot\, CO\, 80544\, United States
CATEGORIES:Holiday Fairs
ORGANIZER;CN="Niwot Business Association":MAILTO:info@niwot.com
END:VEVENT
END:VCALENDAR